BEGIN:VCALENDAR
VERSION:1.0
PRODID:Open2CKalenderExportV11
BEGIN:VEVENT
DTSTAMP:20260414T063842Z
DTSTART:20260617T200000Z
DTEND:20260617T210000Z
CATEGORIES:Konzerte
SUMMARY:Kultursommer am Heimatmuseum - OHO Die Blasmusik
DESCRIPTION:Während des Konzerts werden Getränke verkauft.  | Organisator   AK Kultur
LOCATION:Dorfplatz am Heimatmuseum
 Dorfstraße 20
 88138 Hergensweiler
UID:0afb5909885e5248e271c78237dc879c-22249d63f74cf35f8cbe6b986e7b454a
PRIORITY:3
END:VEVENT
END:VCALENDAR
